BEGIN:VCALENDAR
VERSION:2.0
PRODID:-//Eventin//Event Calendar//EN
CALSCALE:GREGORIAN
METHOD:PUBLISH
BEGIN:VEVENT
UID:30b75c832b309a5cb9ffccc48d082881@www.caribbeanyardcampus.org
SUMMARY:Sweet Broom & Bitter Bush
DESCRIPTION:Starts 11th April- 29th June 2019\n\nLearn the science behind t
 he bush tea your granny made with Alain Thierry and Cristo Adonis. Sweet Br
 oom and Bitter Bush: the Science of Traditional Medicine will help its lear
 ners discern the wisdom in their grandparents’ folk practices and encoura
 ge a natural\, holistic approach to health and healing supported by scienti
 fic research. Classes take place on Thursdays 5-7pm and Saturdays 8-11am.\n
 \nCaribbean Yard Campus welcomes community- based organizations to register
  for special prices. All courses are open to the public\, and there are no 
 pre-requisites except for your curiosity and desire to learn more about som
 e of our locally used Caribbean languages and traditional practices.\n\n \
 n\nFor more details\, on how to register and the cost\, the public is invit
 ed to call 232-0959\, message on Facebook @Caribbean Yard Campus or email:
  caribbeanyardcampus@gmail.com.\n\n 
LOCATION:Online
DTSTAMP:20260422T083615Z
DTSTART:20260422T040000Z
DTEND:20260422T040000Z
END:VEVENT
END:VCALENDAR
